BEGIN:VCALENDAR
VERSION:2.0
PRODID:-//South County Tiger Bay - ECPv6.15.14//NONSGML v1.0//EN
CALSCALE:GREGORIAN
METHOD:PUBLISH
X-WR-CALNAME:South County Tiger Bay
X-ORIGINAL-URL:https://www.sctigerbay.com
X-WR-CALDESC:Events for South County Tiger Bay
REFRESH-INTERVAL;VALUE=DURATION:PT1H
X-Robots-Tag:noindex
X-PUBLISHED-TTL:PT1H
BEGIN:VTIMEZONE
TZID:America/New_York
BEGIN:DAYLIGHT
TZOFFSETFROM:-0500
TZOFFSETTO:-0400
TZNAME:EDT
DTSTART:20250309T070000
END:DAYLIGHT
BEGIN:STANDARD
TZOFFSETFROM:-0400
TZOFFSETTO:-0500
TZNAME:EST
DTSTART:20251102T060000
END:STANDARD
BEGIN:DAYLIGHT
TZOFFSETFROM:-0500
TZOFFSETTO:-0400
TZNAME:EDT
DTSTART:20260308T070000
END:DAYLIGHT
BEGIN:STANDARD
TZOFFSETFROM:-0400
TZOFFSETTO:-0500
TZNAME:EST
DTSTART:20261101T060000
END:STANDARD
BEGIN:DAYLIGHT
TZOFFSETFROM:-0500
TZOFFSETTO:-0400
TZNAME:EDT
DTSTART:20270314T070000
END:DAYLIGHT
BEGIN:STANDARD
TZOFFSETFROM:-0400
TZOFFSETTO:-0500
TZNAME:EST
DTSTART:20271107T060000
END:STANDARD
END:VTIMEZONE
BEGIN:VEVENT
DTSTART;TZID=America/New_York:20260130T063000
DTEND;TZID=America/New_York:20260130T083000
DTSTAMP:20260421T215859
CREATED:20260113T225444Z
LAST-MODIFIED:20260128T040931Z
UID:1643-1769754600-1769761800@www.sctigerbay.com
SUMMARY:The South Jetties - Status + Repair options / costs ($100 MILLION!? Really?) -- panel discussion with WCIND\, Sarasota County\, City of Venice
DESCRIPTION:Panel will include:Justin McBrideDirector WCIND – https://www.wcind.net/ \n\n\n\nRick SimpsonPublic Works DirectorCity of Venice \n\n\n\nScott MorandaManager of Beaches and Water Access\, Sarasota County
URL:https://www.sctigerbay.com/event/the-south-jetties-status-repair-options-costs-100-million-really-panel-discussion-with-wcind-sarasota-county-city-of-venice/
LOCATION:Hotel Venezia\, 425 US 41 Bypass N\, Venice\, Florida\, 34285\, United States
END:VEVENT
BEGIN:VEVENT
DTSTART;TZID=America/New_York:20260220T063000
DTEND;TZID=America/New_York:20260220T080000
DTSTAMP:20260421T215859
CREATED:20260205T215519Z
LAST-MODIFIED:20260220T063841Z
UID:1686-1771569000-1771574400@www.sctigerbay.com
SUMMARY:Who’s In Control? Exploring land use decisions that have moved from local to state elected officials
DESCRIPTION:“Who’s In Control? Exploring land use decisions that have moved from local to state elected officials”Panel members:Tom Knight\, Sarasota County CommissionerNick Pachota\, Mayor\, City of VenicePhil Stokes\, North Port City Commissioner \n\n\n\nState Representative James Buchanan – invited \n\n\n\nState Representative Fiona McFarland – invitedModerated by Jon Thaxton\, former Sarasota County Commissioner
URL:https://www.sctigerbay.com/event/whos-in-control-exploring-land-use-decisions-that-have-moved-from-local-to-state-elected-officials/
LOCATION:Hotel Venezia\, 425 U.S. 41 Bypass N\, Venice\, Florida\, 34285\, United States
END:VEVENT
BEGIN:VEVENT
DTSTART;TZID=America/New_York:20260327T113000
DTEND;TZID=America/New_York:20260327T133000
DTSTAMP:20260421T215859
CREATED:20260317T210103Z
LAST-MODIFIED:20260320T171718Z
UID:1694-1774611000-1774618200@www.sctigerbay.com
SUMMARY:Florida Legislative Session Update
DESCRIPTION:Register Now\n\n\n\n\n\n\n\n\nSen. Joe Gruters – invitedRep. James Buchanan – confirmedRep. Fiona McFarland – schedule conflictRep. Danny Nix – confirmed \n\n\n\nFriday\, March 27\, 2026Hotel Venezia 425 U.S. 41 ByPass No.Venice\, FL 34285 \n\n\n\nRegistration 11:30 amCall to order 12 noonAdjourn 1:30 pm (approx)$25 Members$35 Non-Members
URL:https://www.sctigerbay.com/event/florida-legislative-session-update/
LOCATION:Hotel Venezia\, 425 U.S. 41 Bypass N\, Venice\, Florida\, 34285\, United States
END:VEVENT
BEGIN:VEVENT
DTSTART;TZID=America/New_York:20260508T113000
DTEND;TZID=America/New_York:20260508T133000
DTSTAMP:20260421T215859
CREATED:20260420T170626Z
LAST-MODIFIED:20260420T170628Z
UID:1780-1778239800-1778247000@www.sctigerbay.com
SUMMARY:"SAVE the DATE"\, School Board Candidates - SPECIAL DATE MAY 8TH
DESCRIPTION:Please save the date for an upcoming South County Tiger Bay event you won’t want to miss. \n\n\n\nWe will be hosting a School Board Candidates forum\, moderated by Laura Benson. This will be an important opportunity to hear directly from the candidates\, understand their positions\, and stay informed on issues impacting our local schools and community. \n\n\n\nEvent details and full program information will be shared soon\, but we encourage you to reserve your spot early. \n\n\n\nRegister here:https://ticketscandy.com/e/save-the-date-school-board-candidates-laura-benson-moderator-17341 \n\n\n\nWe look forward to seeing you there and continuing the thoughtful\, engaging discussions that make our group so valuable. \n\n\n\n \n\n\n\nDoors at 11:30 AM; program 12 PM Prompt
URL:https://www.sctigerbay.com/event/save-the-date-school-board-candidates-special-date-may-8th/
LOCATION:Hotel Venezia\, 425 U.S. 41 Bypass N\, Venice\, Florida\, 34285\, United States
END:VEVENT
BEGIN:VEVENT
DTSTART;TZID=America/New_York:20260729T163000
DTEND;TZID=America/New_York:20260729T190000
DTSTAMP:20260421T215859
CREATED:20260420T040444Z
LAST-MODIFIED:20260420T041510Z
UID:1758-1785342600-1785351600@www.sctigerbay.com
SUMMARY:Hob Nob / Meet the Candidates (all candidates invited by Venice Chamber) - South County Tiger Bay and Venice Chamber
DESCRIPTION:Register Now\n\n\n\n\n\n\n\n\nHob Nob / Meet the Candidates (all candidates invited by Venice Chamber) – South County Tiger Bay and Venice Chamber \n\n\n\nWednesday\, July 29\, 2026 \n\n\n\n2026Hotel Venezia 425 U.S. 41 ByPass No.Venice\, FL 34285 \n\n\n\n$25 Members$35 Non-Members
URL:https://www.sctigerbay.com/event/hob-nob-meet-the-candidates-all-candidates-invited-by-venice-chamber-south-county-tiger-bay-and-venice-chamber/
LOCATION:Hotel Venezia\, 425 U.S. 41 Bypass N\, Venice\, Florida\, 34285\, United States
END:VEVENT
END:VCALENDAR