BEGIN:VCALENDAR
VERSION:2.0
PRODID:-//South County Tiger Bay - ECPv6.15.14//NONSGML v1.0//EN
CALSCALE:GREGORIAN
METHOD:PUBLISH
X-WR-CALNAME:South County Tiger Bay
X-ORIGINAL-URL:https://www.sctigerbay.com
X-WR-CALDESC:Events for South County Tiger Bay
REFRESH-INTERVAL;VALUE=DURATION:PT1H
X-Robots-Tag:noindex
X-PUBLISHED-TTL:PT1H
BEGIN:VTIMEZONE
TZID:America/New_York
BEGIN:DAYLIGHT
TZOFFSETFROM:-0500
TZOFFSETTO:-0400
TZNAME:EDT
DTSTART:20190310T070000
END:DAYLIGHT
BEGIN:STANDARD
TZOFFSETFROM:-0400
TZOFFSETTO:-0500
TZNAME:EST
DTSTART:20191103T060000
END:STANDARD
BEGIN:DAYLIGHT
TZOFFSETFROM:-0500
TZOFFSETTO:-0400
TZNAME:EDT
DTSTART:20200308T070000
END:DAYLIGHT
BEGIN:STANDARD
TZOFFSETFROM:-0400
TZOFFSETTO:-0500
TZNAME:EST
DTSTART:20201101T060000
END:STANDARD
BEGIN:DAYLIGHT
TZOFFSETFROM:-0500
TZOFFSETTO:-0400
TZNAME:EDT
DTSTART:20210314T070000
END:DAYLIGHT
BEGIN:STANDARD
TZOFFSETFROM:-0400
TZOFFSETTO:-0500
TZNAME:EST
DTSTART:20211107T060000
END:STANDARD
BEGIN:DAYLIGHT
TZOFFSETFROM:-0500
TZOFFSETTO:-0400
TZNAME:EDT
DTSTART:20220313T070000
END:DAYLIGHT
BEGIN:STANDARD
TZOFFSETFROM:-0400
TZOFFSETTO:-0500
TZNAME:EST
DTSTART:20221106T060000
END:STANDARD
BEGIN:DAYLIGHT
TZOFFSETFROM:-0500
TZOFFSETTO:-0400
TZNAME:EDT
DTSTART:20230312T070000
END:DAYLIGHT
BEGIN:STANDARD
TZOFFSETFROM:-0400
TZOFFSETTO:-0500
TZNAME:EST
DTSTART:20231105T060000
END:STANDARD
END:VTIMEZONE
BEGIN:VEVENT
DTSTART;TZID=America/New_York:20220325T113000
DTEND;TZID=America/New_York:20220325T130000
DTSTAMP:20260421T180603
CREATED:20220307T131153Z
LAST-MODIFIED:20220307T131153Z
UID:368-1648207800-1648213200@www.sctigerbay.com
SUMMARY:2022 LEGISLATIVE UPDATE
DESCRIPTION:Representative Buchanan\n\n\n\nSenator Gruters\n\n\n\nWelcome to our Annual Florida Legislature Update with State Senator Joe Gruters and House Representative James Buchanan.  Tiger members – come with questions!  And a guest. \n\n\n\nYour moderator will be former Sarasota County Sheriff Tom Knight.
URL:https://www.sctigerbay.com/event/2022-legislative-update/
END:VEVENT
BEGIN:VEVENT
DTSTART;TZID=America/New_York:20220225T113000
DTEND;TZID=America/New_York:20220225T133000
DTSTAMP:20260421T180603
CREATED:20220204T202201Z
LAST-MODIFIED:20220204T202201Z
UID:342-1645788600-1645795800@www.sctigerbay.com
SUMMARY:Meet our Superintendent
DESCRIPTION:Join us for an informative presentation and Q&A with Dr. Brennan Asplen\, Superintendent of Sarasota County Public Schools \n\n\n\nPlease join us in welcoming to Venice Dr. Asplen.  He will be our guest to discuss his experiences since joining the District\, talk about the upcoming School Tax renewal and answer all the Tiger questions you may have. \n\n\n\n\n\n\n\nYour moderator will be former School Board Member Laura Benson. \n\n\n\nLunch will begin service by 11:45\, the program will begin no later than 12:15 and there will be plenty of time left for questions – remember ONLY TIGER BAY MEMBERS MAY ASK QUESTIONS.
URL:https://www.sctigerbay.com/event/meet-our-superintendent/
END:VEVENT
BEGIN:VEVENT
DTSTART;TZID=America/New_York:20211029T113000
DTEND;TZID=America/New_York:20211029T133000
DTSTAMP:20260421T180603
CREATED:20211018T143854Z
LAST-MODIFIED:20211018T143854Z
UID:309-1635507000-1635514200@www.sctigerbay.com
SUMMARY:South County Law Enforcement Update
DESCRIPTION:Who are the area law enforcement officials in South County and how do they interact to coordinate services?  We will be introduced to newly elected Sarasota County Sheriff\, Kurt Hoffman; North Port Police Chief Todd Garrison; current but soon to be retired Venice City Police Chief Mattmuller: and Sarasota County School’s Police Chief Tim Enos. \n\n\n\n\n\n\n\nLunch will begin service by 11:45\, the program will begin no later than 12:15 and there will be plenty of time left for questions – remember ONLY TIGER BAY MEMBERS MAY ASK QUESTIONS. \n\n\n\nFacilitator – Laura Benson
URL:https://www.sctigerbay.com/event/south-county-law-enforcement-update/
END:VEVENT
BEGIN:VEVENT
DTSTART;TZID=America/New_York:20201112T120000
DTEND;TZID=America/New_York:20201112T130000
DTSTAMP:20260421T180603
CREATED:20201028T021654Z
LAST-MODIFIED:20201028T021654Z
UID:285-1605182400-1605186000@www.sctigerbay.com
SUMMARY:Election Wrap Up
DESCRIPTION:Florida Tiger Bay Clubs Election Series 2020Election Wrap Up:  \n\n\n\nwill be streamed live on our Website and Facebook Page November 12th\, 2020 @ 12:00 PM – 1:00 PM THERE IS NO REGISTRATION FOR THIS EVENT!! Click the link below to watch the Live stream on our WEBSITE: https://www.sctigerbay.com \n\n\n\nClick the link below to watch the Live stream on our FACEBOOK PAGE: https://www.facebook.com/sctigerbayclub \n\n\n\nCOST: FREE \n\n\n\nWith Special Guest:  \n\n\n\nDr. Susan M. Macmanus – University of South Florida Distinguished University Professor (Political Science) Emerita & Political Analyst \n\n\n\nRyan Tyson – Principal\, The Tyson Group\, LLCMarc Caputo – Reporter\, POLITICO Florida Playbook  \n\n\n\nSteven Schale – Florida Political Strategist
URL:https://www.sctigerbay.com/event/election-wrap-up/
END:VEVENT
BEGIN:VEVENT
DTSTART;TZID=America/New_York:20201023T120000
DTEND;TZID=America/New_York:20201023T130000
DTSTAMP:20260421T180603
CREATED:20201020T013012Z
LAST-MODIFIED:20201020T013012Z
UID:275-1603454400-1603458000@www.sctigerbay.com
SUMMARY:Amendment 2: Minimum Wage
DESCRIPTION:Guest Include: \n\n\n\nJohn Morgan\, Morgan & Morgan \n\n\n\nJT Corrales\, Crabby Bills & Amendment 2 Hurts You
URL:https://www.sctigerbay.com/event/amendment-2-minimum-wage/
END:VEVENT
BEGIN:VEVENT
DTSTART;TZID=America/New_York:20201016T120000
DTEND;TZID=America/New_York:20201016T130000
DTSTAMP:20260421T180603
CREATED:20201014T014940Z
LAST-MODIFIED:20201014T014940Z
UID:268-1602849600-1602853200@www.sctigerbay.com
SUMMARY:The Presidential Race
DESCRIPTION:Congressman – Matt Gaetz \n\n\n\nRepresentative – Anna V. Eskamani
URL:https://www.sctigerbay.com/event/the-presidential-race/
END:VEVENT
BEGIN:VEVENT
DTSTART;TZID=America/New_York:20201009T120000
DTEND;TZID=America/New_York:20201009T130000
DTSTAMP:20260421T180603
CREATED:20201005T040620Z
LAST-MODIFIED:20201005T040620Z
UID:261-1602244800-1602248400@www.sctigerbay.com
SUMMARY:Florida Tiger Bay Clubs Elections Series 2020 - Amendment 3: Open Primary
DESCRIPTION:Join us this Friday for Amendment 3: Open Primary; Live stream will be available on our Facebook page or on our website. October 9th\, 2020 @ 12:00 PM- 1:00 PM \n\n\n\nGuest Include: \n\n\n\nJason Altmire\, Former Congressman \n\n\n\nSenator Joe Gruters\, Republican Party of Florida \n\n\n\nTerri Rizzo\, Democratic Party of Florida \n\n\n\nGlen Burhans\, Jr.\, Esq.\, All Voters Vote
URL:https://www.sctigerbay.com/event/florida-tiger-bay-clubs-elections-series-2020-amendment-3-open-primary/
END:VEVENT
BEGIN:VEVENT
DTSTART;TZID=America/New_York:20200327T113000
DTEND;TZID=America/New_York:20200327T133000
DTSTAMP:20260421T180603
CREATED:20200309T212725Z
LAST-MODIFIED:20200309T212725Z
UID:252-1585308600-1585315800@www.sctigerbay.com
SUMMARY:Annual Legislative Update
DESCRIPTION:THIS EVENT HAS BEEN CANCELED DUE TO THE CURRENT HEALTH CRISIS
URL:https://www.sctigerbay.com/event/annual-legislative-update/
LOCATION:Membership
END:VEVENT
END:VCALENDAR